BEGIN:VCALENDAR
VERSION:2.0
PRODID:-//Anand Niketan International - ECPv6.15.20//NONSGML v1.0//EN
CALSCALE:GREGORIAN
METHOD:PUBLISH
X-ORIGINAL-URL:https://anis.edu.in
X-WR-CALDESC:Events for Anand Niketan International
REFRESH-INTERVAL;VALUE=DURATION:PT1H
X-Robots-Tag:noindex
X-PUBLISHED-TTL:PT1H
BEGIN:VTIMEZONE
TZID:Asia/Kolkata
BEGIN:STANDARD
TZOFFSETFROM:+0530
TZOFFSETTO:+0530
TZNAME:IST
DTSTART:20240101T000000
END:STANDARD
END:VTIMEZONE
BEGIN:VEVENT
DTSTART;VALUE=DATE:20250814
DTEND;VALUE=DATE:20250815
DTSTAMP:20260425T172432
CREATED:20250718T105939Z
LAST-MODIFIED:20250718T105939Z
UID:2387-1755129600-1755215999@anis.edu.in
SUMMARY:Independence day (Investiture Ceremony)
DESCRIPTION:Independence day (Investiture Ceremony) 
URL:https://anis.edu.in/event/independence-day-investiture-ceremony/
END:VEVENT
END:VCALENDAR