BEGIN:VCALENDAR
VERSION:2.0
PRODID:-//Anand Niketan International - ECPv6.15.20//NONSGML v1.0//EN
CALSCALE:GREGORIAN
METHOD:PUBLISH
X-WR-CALNAME:Anand Niketan International
X-ORIGINAL-URL:https://anis.edu.in
X-WR-CALDESC:Events for Anand Niketan International
REFRESH-INTERVAL;VALUE=DURATION:PT1H
X-Robots-Tag:noindex
X-PUBLISHED-TTL:PT1H
BEGIN:VTIMEZONE
TZID:Asia/Kolkata
BEGIN:STANDARD
TZOFFSETFROM:+0530
TZOFFSETTO:+0530
TZNAME:IST
DTSTART:20240101T000000
END:STANDARD
END:VTIMEZONE
BEGIN:VEVENT
DTSTART;VALUE=DATE:20250816
DTEND;VALUE=DATE:20250817
DTSTAMP:20260425T172331
CREATED:20250718T105732Z
LAST-MODIFIED:20250718T105732Z
UID:2386-1755302400-1755388799@anis.edu.in
SUMMARY:Janamashtami
DESCRIPTION:Janamashtami 
URL:https://anis.edu.in/event/janamashtami/
END:VEVENT
END:VCALENDAR