BEGIN:VCALENDAR
VERSION:2.0
PRODID:-//Anand Niketan International - ECPv6.15.20//NONSGML v1.0//EN
CALSCALE:GREGORIAN
METHOD:PUBLISH
X-ORIGINAL-URL:https://anis.edu.in
X-WR-CALDESC:Events for Anand Niketan International
REFRESH-INTERVAL;VALUE=DURATION:PT1H
X-Robots-Tag:noindex
X-PUBLISHED-TTL:PT1H
BEGIN:VTIMEZONE
TZID:Asia/Kolkata
BEGIN:STANDARD
TZOFFSETFROM:+0530
TZOFFSETTO:+0530
TZNAME:IST
DTSTART:20250101T000000
END:STANDARD
END:VTIMEZONE
BEGIN:VEVENT
DTSTART;VALUE=DATE:20260326
DTEND;VALUE=DATE:20260327
DTSTAMP:20260425T054454
CREATED:20250718T111517Z
LAST-MODIFIED:20250718T111517Z
UID:2404-1774483200-1774569599@anis.edu.in
SUMMARY:Ram Navmi
DESCRIPTION:Ram Navmi  Leave
URL:https://anis.edu.in/event/ram-navmi/
END:VEVENT
END:VCALENDAR