BEGIN:VCALENDAR
VERSION:2.0
PRODID:-//Anand Niketan International - ECPv6.15.20//NONSGML v1.0//EN
CALSCALE:GREGORIAN
METHOD:PUBLISH
X-WR-CALNAME:Anand Niketan International
X-ORIGINAL-URL:https://anis.edu.in
X-WR-CALDESC:Events for Anand Niketan International
REFRESH-INTERVAL;VALUE=DURATION:PT1H
X-Robots-Tag:noindex
X-PUBLISHED-TTL:PT1H
BEGIN:VTIMEZONE
TZID:Asia/Kolkata
BEGIN:STANDARD
TZOFFSETFROM:+0530
TZOFFSETTO:+0530
TZNAME:IST
DTSTART:20240101T000000
END:STANDARD
END:VTIMEZONE
BEGIN:VEVENT
DTSTART;VALUE=DATE:20251231
DTEND;VALUE=DATE:20260102
DTSTAMP:20260425T220216
CREATED:20250718T111238Z
LAST-MODIFIED:20250718T111238Z
UID:2400-1767139200-1767311999@anis.edu.in
SUMMARY:New Year
DESCRIPTION:New Year  Leave
URL:https://anis.edu.in/event/new-year/
END:VEVENT
BEGIN:VEVENT
DTSTART;VALUE=DATE:20251225
DTEND;VALUE=DATE:20251226
DTSTAMP:20260425T220216
CREATED:20250718T111153Z
LAST-MODIFIED:20250718T111153Z
UID:2399-1766620800-1766707199@anis.edu.in
SUMMARY:Christmas
DESCRIPTION:Christmas  Leave
URL:https://anis.edu.in/event/christmas/
END:VEVENT
BEGIN:VEVENT
DTSTART;VALUE=DATE:20251224
DTEND;VALUE=DATE:20251225
DTSTAMP:20260425T220216
CREATED:20250718T110658Z
LAST-MODIFIED:20250718T110658Z
UID:2392-1766534400-1766620799@anis.edu.in
SUMMARY:Connection/Carnival
DESCRIPTION:Connection/Carnival 
URL:https://anis.edu.in/event/connection-carnival/
END:VEVENT
BEGIN:VEVENT
DTSTART;VALUE=DATE:20251201
DTEND;VALUE=DATE:20251209
DTSTAMP:20260425T220216
CREATED:20250718T110626Z
LAST-MODIFIED:20250718T110626Z
UID:2391-1764547200-1765238399@anis.edu.in
SUMMARY:MUN
DESCRIPTION:MUN
URL:https://anis.edu.in/event/mun/
END:VEVENT
BEGIN:VEVENT
DTSTART;VALUE=DATE:20251114
DTEND;VALUE=DATE:20251115
DTSTAMP:20260425T220216
CREATED:20250718T110522Z
LAST-MODIFIED:20250718T110522Z
UID:2390-1763078400-1763164799@anis.edu.in
SUMMARY:Children’s Day
DESCRIPTION:Children’s Day 
URL:https://anis.edu.in/event/childrens-day/
END:VEVENT
BEGIN:VEVENT
DTSTART;VALUE=DATE:20251017
DTEND;VALUE=DATE:20251029
DTSTAMP:20260425T220216
CREATED:20250718T111129Z
LAST-MODIFIED:20250718T111129Z
UID:2398-1760659200-1761695999@anis.edu.in
SUMMARY:Diwali Vacation
DESCRIPTION:Diwali Vacation  Leave
URL:https://anis.edu.in/event/diwali-vacation/
END:VEVENT
BEGIN:VEVENT
DTSTART;VALUE=DATE:20251002
DTEND;VALUE=DATE:20251003
DTSTAMP:20260425T220216
CREATED:20250718T111047Z
LAST-MODIFIED:20250718T111047Z
UID:2373-1759363200-1759449599@anis.edu.in
SUMMARY:Dussehra / Gandhi Jayanti
DESCRIPTION:Dussehra / Gandhi Jayanti  Leave
URL:https://anis.edu.in/event/dussehra-gandhi-jayanti/
END:VEVENT
BEGIN:VEVENT
DTSTART;VALUE=DATE:20251001
DTEND;VALUE=DATE:20251002
DTSTAMP:20260425T220216
CREATED:20250718T111015Z
LAST-MODIFIED:20250718T111015Z
UID:2397-1759276800-1759363199@anis.edu.in
SUMMARY:Navmi
DESCRIPTION:Navmi  Leave
URL:https://anis.edu.in/event/navmi/
END:VEVENT
BEGIN:VEVENT
DTSTART;VALUE=DATE:20250906
DTEND;VALUE=DATE:20250907
DTSTAMP:20260425T220216
CREATED:20250718T110945Z
LAST-MODIFIED:20250718T110945Z
UID:2396-1757116800-1757203199@anis.edu.in
SUMMARY:Eid-e-Milad
DESCRIPTION:Eid-e-Milad  Leave
URL:https://anis.edu.in/event/eid-e-milad/
END:VEVENT
BEGIN:VEVENT
DTSTART;VALUE=DATE:20250905
DTEND;VALUE=DATE:20250906
DTSTAMP:20260425T220216
CREATED:20250718T110325Z
LAST-MODIFIED:20250718T110325Z
UID:2388-1757030400-1757116799@anis.edu.in
SUMMARY:Teacher’s Day
DESCRIPTION:Teacher’s Day
URL:https://anis.edu.in/event/teachers-day/
END:VEVENT
BEGIN:VEVENT
DTSTART;VALUE=DATE:20250827
DTEND;VALUE=DATE:20250828
DTSTAMP:20260425T220216
CREATED:20250718T110907Z
LAST-MODIFIED:20250718T110907Z
UID:2395-1756252800-1756339199@anis.edu.in
SUMMARY:Ganesh Chaturthi
DESCRIPTION:Ganesh Chaturthi  \nLeave
URL:https://anis.edu.in/event/ganesh-chaturthi/
END:VEVENT
BEGIN:VEVENT
DTSTART;VALUE=DATE:20250816
DTEND;VALUE=DATE:20250817
DTSTAMP:20260425T220216
CREATED:20250718T105732Z
LAST-MODIFIED:20250718T105732Z
UID:2386-1755302400-1755388799@anis.edu.in
SUMMARY:Janamashtami
DESCRIPTION:Janamashtami 
URL:https://anis.edu.in/event/janamashtami/
END:VEVENT
BEGIN:VEVENT
DTSTART;VALUE=DATE:20250814
DTEND;VALUE=DATE:20250815
DTSTAMP:20260425T220216
CREATED:20250718T105939Z
LAST-MODIFIED:20250718T105939Z
UID:2387-1755129600-1755215999@anis.edu.in
SUMMARY:Independence day (Investiture Ceremony)
DESCRIPTION:Independence day (Investiture Ceremony) 
URL:https://anis.edu.in/event/independence-day-investiture-ceremony/
END:VEVENT
BEGIN:VEVENT
DTSTART;VALUE=DATE:20250809
DTEND;VALUE=DATE:20250810
DTSTAMP:20260425T220216
CREATED:20250718T105520Z
LAST-MODIFIED:20250718T105520Z
UID:2385-1754697600-1754783999@anis.edu.in
SUMMARY:Rakshabandhan
DESCRIPTION:Holiday
URL:https://anis.edu.in/event/rakshabandhan/
END:VEVENT
BEGIN:VEVENT
DTSTART;VALUE=DATE:20250701
DTEND;VALUE=DATE:20250702
DTSTAMP:20260425T220216
CREATED:20250718T105427Z
LAST-MODIFIED:20250718T105427Z
UID:2384-1751328000-1751414399@anis.edu.in
SUMMARY:Foundation Day
DESCRIPTION:Foundation Day 
URL:https://anis.edu.in/event/foundation-day/
END:VEVENT
END:VCALENDAR