BEGIN:VCALENDAR
VERSION:2.0
PRODID:-//Anand Niketan International - ECPv6.15.20//NONSGML v1.0//EN
CALSCALE:GREGORIAN
METHOD:PUBLISH
X-WR-CALNAME:Anand Niketan International
X-ORIGINAL-URL:https://anis.edu.in
X-WR-CALDESC:Events for Anand Niketan International
REFRESH-INTERVAL;VALUE=DURATION:PT1H
X-Robots-Tag:noindex
X-PUBLISHED-TTL:PT1H
BEGIN:VTIMEZONE
TZID:Asia/Kolkata
BEGIN:STANDARD
TZOFFSETFROM:+0530
TZOFFSETTO:+0530
TZNAME:IST
DTSTART:20250101T000000
END:STANDARD
END:VTIMEZONE
BEGIN:VEVENT
DTSTART;VALUE=DATE:20260331
DTEND;VALUE=DATE:20260401
DTSTAMP:20260425T220341
CREATED:20250718T111556Z
LAST-MODIFIED:20250718T111556Z
UID:2405-1774915200-1775001599@anis.edu.in
SUMMARY:Mahavir Jayanti
DESCRIPTION:Mahavir Jayanti  Leave
URL:https://anis.edu.in/event/mahavir-jayanti/
END:VEVENT
BEGIN:VEVENT
DTSTART;VALUE=DATE:20260403
DTEND;VALUE=DATE:20260404
DTSTAMP:20260425T220341
CREATED:20250718T111638Z
LAST-MODIFIED:20250718T111638Z
UID:2406-1775174400-1775260799@anis.edu.in
SUMMARY:Good Friday
DESCRIPTION:
URL:https://anis.edu.in/event/good-friday/
END:VEVENT
BEGIN:VEVENT
DTSTART;VALUE=DATE:20260414
DTEND;VALUE=DATE:20260415
DTSTAMP:20260425T220341
CREATED:20250718T111717Z
LAST-MODIFIED:20250718T111717Z
UID:2407-1776124800-1776211199@anis.edu.in
SUMMARY:Ambedkar Jayanti
DESCRIPTION:Ambedkar Jayanti  Leave
URL:https://anis.edu.in/event/ambedkar-jayanti/
END:VEVENT
END:VCALENDAR