BEGIN:VCALENDAR
VERSION:2.0
PRODID:-//Anand Niketan International - ECPv6.15.20//NONSGML v1.0//EN
CALSCALE:GREGORIAN
METHOD:PUBLISH
X-WR-CALNAME:Anand Niketan International
X-ORIGINAL-URL:https://anis.edu.in
X-WR-CALDESC:Events for Anand Niketan International
REFRESH-INTERVAL;VALUE=DURATION:PT1H
X-Robots-Tag:noindex
X-PUBLISHED-TTL:PT1H
BEGIN:VTIMEZONE
TZID:Asia/Kolkata
BEGIN:STANDARD
TZOFFSETFROM:+0530
TZOFFSETTO:+0530
TZNAME:IST
DTSTART:20240101T000000
END:STANDARD
END:VTIMEZONE
BEGIN:VEVENT
DTSTART;VALUE=DATE:20251201
DTEND;VALUE=DATE:20251209
DTSTAMP:20260425T090039
CREATED:20250718T110626Z
LAST-MODIFIED:20250718T110626Z
UID:2391-1764547200-1765238399@anis.edu.in
SUMMARY:MUN
DESCRIPTION:MUN
URL:https://anis.edu.in/event/mun/
END:VEVENT
BEGIN:VEVENT
DTSTART;VALUE=DATE:20251224
DTEND;VALUE=DATE:20251225
DTSTAMP:20260425T090039
CREATED:20250718T110658Z
LAST-MODIFIED:20250718T110658Z
UID:2392-1766534400-1766620799@anis.edu.in
SUMMARY:Connection/Carnival
DESCRIPTION:Connection/Carnival 
URL:https://anis.edu.in/event/connection-carnival/
END:VEVENT
BEGIN:VEVENT
DTSTART;VALUE=DATE:20251225
DTEND;VALUE=DATE:20251226
DTSTAMP:20260425T090039
CREATED:20250718T111153Z
LAST-MODIFIED:20250718T111153Z
UID:2399-1766620800-1766707199@anis.edu.in
SUMMARY:Christmas
DESCRIPTION:Christmas  Leave
URL:https://anis.edu.in/event/christmas/
END:VEVENT
BEGIN:VEVENT
DTSTART;VALUE=DATE:20251231
DTEND;VALUE=DATE:20260102
DTSTAMP:20260425T090039
CREATED:20250718T111238Z
LAST-MODIFIED:20250718T111238Z
UID:2400-1767139200-1767311999@anis.edu.in
SUMMARY:New Year
DESCRIPTION:New Year  Leave
URL:https://anis.edu.in/event/new-year/
END:VEVENT
END:VCALENDAR